BEGIN:VCALENDAR
VERSION:2.0
PRODID:-//st. Antonius Ziekenhuis//Agenda//EN
X-WR-TIMEZONE:Europe/Amsterdam
BEGIN:VTIMEZONE
TZID:Europe/Amsterdam
X-LIC-LOCATION:Europe/Amsterdam
BEGIN:DAYLIGHT
TZOFFSETFROM:+0100
TZOFFSETTO:+0200
TZNAME:CEST
DTSTART:19700329T020000
RRULE:FREQ=YEARLY;BYMONTH=3;BYDAY=-1SU
END:DAYLIGHT
BEGIN:STANDARD
TZOFFSETFROM:+0200
TZOFFSETTO:+0100
TZNAME:CET
DTSTART:19701025T030000
RRULE:FREQ=YEARLY;BYMONTH=10;BYDAY=-1SU
END:STANDARD
END:VTIMEZONE
BEGIN:VEVENT
DTSTART;TZID=Europe/Amsterdam:20240319T183000
DTEND;TZID=Europe/Amsterdam:20240319T210500
DTSTAMP:20260424T110053Z
UID:MTcxMDg2OTQwMF8xNzEwODc4NzAwX0JpamVlbmtvbXN0IG92ZXIgZGFybWthbmtlcg==
SUMMARY:Bijeenkomst over darmkanker
LOCATION:UMC Utrecht, Heidelberglaan 100 Utrecht (Collegezaal Groen)
DESCRIPTION:Op 19 maart 2024 vindt er een bijeenkomst plaats voor patiënt
	en en hun naasten over darmkanker. Kijk voor meer informatie op https://ww
	w.antoniusziekenhuis.nl/agenda-overzicht/bijeenkomst-over-darmkanker-19-03
	-2024.
END:VEVENT
END:VCALENDAR
