BEGIN:VCALENDAR
VERSION:2.0
PRODID:-//st. Antonius Ziekenhuis//Agenda//EN
X-WR-TIMEZONE:Europe/Amsterdam
BEGIN:VTIMEZONE
TZID:Europe/Amsterdam
X-LIC-LOCATION:Europe/Amsterdam
BEGIN:DAYLIGHT
TZOFFSETFROM:+0100
TZOFFSETTO:+0200
TZNAME:CEST
DTSTART:19700329T020000
RRULE:FREQ=YEARLY;BYMONTH=3;BYDAY=-1SU
END:DAYLIGHT
BEGIN:STANDARD
TZOFFSETFROM:+0200
TZOFFSETTO:+0100
TZNAME:CET
DTSTART:19701025T030000
RRULE:FREQ=YEARLY;BYMONTH=10;BYDAY=-1SU
END:STANDARD
END:VTIMEZONE
BEGIN:VEVENT
DTSTART;TZID=Europe/Amsterdam:20240327T100000
DTEND;TZID=Europe/Amsterdam:20240327T170000
DTSTAMP:20260420T124044Z
UID:MTcxMTUzMDAwMF8xNzExNTU1MjAwX1NlbWluYXIgU2FtZW4gQmVzbGlzc2VuIA==
SUMMARY:Seminar Samen Beslissen
LOCATION: Domus Medica, Mercatorlaan 1200, 3505 AH Utrecht
DESCRIPTION:Dit seminar is voor patiënten en zorgverleners. Hoe krijg je a
	ls patiënt de voor jou beste behandeling, die past bij wie jij bent en jo
	uw situatie?  Kijk voor meer informatie op https://www.antoniusziekenhuis
	.nl/agenda-overzicht/seminar-samen-beslissen-27-03-2024.
END:VEVENT
END:VCALENDAR
